BEGIN:VCALENDAR
VERSION:2.0
PRODID:-//Réserve naturelle régionale de Cambounet-sur-le-sor - ECPv6.8.3//NONSGML v1.0//EN
CALSCALE:GREGORIAN
METHOD:PUBLISH
X-ORIGINAL-URL:https://www.rnrcambounet.fr
X-WR-CALDESC:Évènements pour Réserve naturelle régionale de Cambounet-sur-le-sor
REFRESH-INTERVAL;VALUE=DURATION:PT1H
X-Robots-Tag:noindex
X-PUBLISHED-TTL:PT1H
BEGIN:VTIMEZONE
TZID:Europe/Paris
BEGIN:DAYLIGHT
TZOFFSETFROM:+0100
TZOFFSETTO:+0200
TZNAME:CEST
DTSTART:20250330T010000
END:DAYLIGHT
BEGIN:STANDARD
TZOFFSETFROM:+0200
TZOFFSETTO:+0100
TZNAME:CET
DTSTART:20251026T010000
END:STANDARD
END:VTIMEZONE
BEGIN:VEVENT
DTSTART;TZID=Europe/Paris:20250614T090000
DTEND;TZID=Europe/Paris:20250614T113000
DTSTAMP:20260422T041539
CREATED:20241211T160213Z
LAST-MODIFIED:20241211T160213Z
UID:1171-1749891600-1749900600@www.rnrcambounet.fr
SUMMARY:Pas de tabou chez le Coucou !
DESCRIPTION:Les comportements sexuels sont très diversifiés chez les animaux\, bien plus que vous ne le pensez…
URL:https://www.rnrcambounet.fr/agenda/pas-de-tabou-chez-le-coucou-2/
LOCATION:Réserve Naturelle Régionale de Cambounet-sur-le-Sor
ORGANIZER;CN="LPO Occitanie DT Tarn":MAILTO:animation.tarn@lpo.fr
END:VEVENT
END:VCALENDAR