BEGIN:VCALENDAR
VERSION:2.0
PRODID:-//Réserve naturelle régionale de Cambounet-sur-le-sor - ECPv6.8.3//NONSGML v1.0//EN
CALSCALE:GREGORIAN
METHOD:PUBLISH
X-ORIGINAL-URL:https://www.rnrcambounet.fr
X-WR-CALDESC:Évènements pour Réserve naturelle régionale de Cambounet-sur-le-sor
REFRESH-INTERVAL;VALUE=DURATION:PT1H
X-Robots-Tag:noindex
X-PUBLISHED-TTL:PT1H
BEGIN:VTIMEZONE
TZID:Europe/Paris
BEGIN:DAYLIGHT
TZOFFSETFROM:+0100
TZOFFSETTO:+0200
TZNAME:CEST
DTSTART:20250330T010000
END:DAYLIGHT
BEGIN:STANDARD
TZOFFSETFROM:+0200
TZOFFSETTO:+0100
TZNAME:CET
DTSTART:20251026T010000
END:STANDARD
END:VTIMEZONE
BEGIN:VEVENT
DTSTART;TZID=Europe/Paris:20250704T203000
DTEND;TZID=Europe/Paris:20250704T230000
DTSTAMP:20260422T022623
CREATED:20241211T160538Z
LAST-MODIFIED:20241211T160538Z
UID:1177-1751661000-1751670000@www.rnrcambounet.fr
SUMMARY:Il va faire tout noir !
DESCRIPTION:Quand certains s’endorment\, d’autres se réveillent. Venez découvrir la vie nocturne qui s’anime au coucher du soleil.
URL:https://www.rnrcambounet.fr/agenda/il-va-faire-tout-noir-2/
LOCATION:Réserve Naturelle Régionale de Cambounet-sur-le-Sor
ORGANIZER;CN="LPO Occitanie DT Tarn":MAILTO:animation.tarn@lpo.fr
END:VEVENT
END:VCALENDAR