BEGIN:VCALENDAR
VERSION:2.0
PRODID:-//Réserve naturelle régionale de Cambounet-sur-le-sor - ECPv6.8.3//NONSGML v1.0//EN
CALSCALE:GREGORIAN
METHOD:PUBLISH
X-ORIGINAL-URL:https://www.rnrcambounet.fr
X-WR-CALDESC:Évènements pour Réserve naturelle régionale de Cambounet-sur-le-sor
REFRESH-INTERVAL;VALUE=DURATION:PT1H
X-Robots-Tag:noindex
X-PUBLISHED-TTL:PT1H
BEGIN:VTIMEZONE
TZID:Europe/Paris
BEGIN:DAYLIGHT
TZOFFSETFROM:+0100
TZOFFSETTO:+0200
TZNAME:CEST
DTSTART:20250330T010000
END:DAYLIGHT
BEGIN:STANDARD
TZOFFSETFROM:+0200
TZOFFSETTO:+0100
TZNAME:CET
DTSTART:20251026T010000
END:STANDARD
END:VTIMEZONE
BEGIN:VEVENT
DTSTART;TZID=Europe/Paris:20250822T200000
DTEND;TZID=Europe/Paris:20250822T220000
DTSTAMP:20260422T002504
CREATED:20250527T074623Z
LAST-MODIFIED:20250813T145207Z
UID:1264-1755892800-1755900000@www.rnrcambounet.fr
SUMMARY:Nuit de la chauve-souris
DESCRIPTION:Soirée incontournable pour amuser petits et grands et partir à la découverte de ces mammifères si particuliers.
URL:https://www.rnrcambounet.fr/agenda/nuit-de-la-chauve-souris/
LOCATION:Réserve Naturelle Régionale de Cambounet-sur-le-Sor
ORGANIZER;CN="LPO Occitanie DT Tarn":MAILTO:animation.tarn@lpo.fr
END:VEVENT
END:VCALENDAR