BEGIN:VCALENDAR
VERSION:2.0
PRODID:-//Réserve naturelle régionale de Cambounet-sur-le-sor - ECPv6.8.3//NONSGML v1.0//EN
CALSCALE:GREGORIAN
METHOD:PUBLISH
X-ORIGINAL-URL:https://www.rnrcambounet.fr
X-WR-CALDESC:Évènements pour Réserve naturelle régionale de Cambounet-sur-le-sor
REFRESH-INTERVAL;VALUE=DURATION:PT1H
X-Robots-Tag:noindex
X-PUBLISHED-TTL:PT1H
BEGIN:VTIMEZONE
TZID:Europe/Paris
BEGIN:DAYLIGHT
TZOFFSETFROM:+0100
TZOFFSETTO:+0200
TZNAME:CEST
DTSTART:20260329T010000
END:DAYLIGHT
BEGIN:STANDARD
TZOFFSETFROM:+0200
TZOFFSETTO:+0100
TZNAME:CET
DTSTART:20261025T010000
END:STANDARD
END:VTIMEZONE
BEGIN:VEVENT
DTSTART;TZID=Europe/Paris:20260117T090000
DTEND;TZID=Europe/Paris:20260118T130000
DTSTAMP:20260421T160242
CREATED:20240620T094249Z
LAST-MODIFIED:20251210T124608Z
UID:713-1768640400-1768741200@www.rnrcambounet.fr
SUMMARY:1\, 2\, 3 comptez !
DESCRIPTION:Fans d’arithmétique\, passionnés ou simples curieux\, partagez avec nous ce moment de sciences participatives qu’est le comptage Wetlands. \nSamedi 17 ou dimanche 18 janvier matin en fonction de la météo
URL:https://www.rnrcambounet.fr/agenda/portes-ouvertes-2024/
LOCATION:Réserve Naturelle Régionale de Cambounet-sur-le-Sor
ATTACH;FMTTYPE=image/png:https://www.rnrcambounet.fr/wp-content/uploads/2024/06/2.png
ORGANIZER;CN="LPO Occitanie DT Tarn":MAILTO:animation.tarn@lpo.fr
END:VEVENT
END:VCALENDAR