BEGIN:VCALENDAR
VERSION:2.0
PRODID:-//Réserve naturelle régionale de Cambounet-sur-le-sor - ECPv6.8.3//NONSGML v1.0//EN
CALSCALE:GREGORIAN
METHOD:PUBLISH
X-WR-CALNAME:Réserve naturelle régionale de Cambounet-sur-le-sor
X-ORIGINAL-URL:https://www.rnrcambounet.fr
X-WR-CALDESC:Évènements pour Réserve naturelle régionale de Cambounet-sur-le-sor
REFRESH-INTERVAL;VALUE=DURATION:PT1H
X-Robots-Tag:noindex
X-PUBLISHED-TTL:PT1H
BEGIN:VTIMEZONE
TZID:Europe/Paris
BEGIN:DAYLIGHT
TZOFFSETFROM:+0100
TZOFFSETTO:+0200
TZNAME:CEST
DTSTART:20260329T010000
END:DAYLIGHT
BEGIN:STANDARD
TZOFFSETFROM:+0200
TZOFFSETTO:+0100
TZNAME:CET
DTSTART:20261025T010000
END:STANDARD
END:VTIMEZONE
BEGIN:VEVENT
DTSTART;VALUE=DATE:20260131
DTEND;VALUE=DATE:20260201
DTSTAMP:20260421T142629
CREATED:20241211T152214Z
LAST-MODIFIED:20260106T134144Z
UID:1148-1769817600-1769903999@www.rnrcambounet.fr
SUMMARY:Journée mondiale des Zones Humides
DESCRIPTION:Comme chaque année\, venez célébrer avec nous la Journée mondiale des zones humides. Balade thématique le matin\, chantier et jeux l’après-midi.
URL:https://www.rnrcambounet.fr/agenda/notre-avenir-sera-t-il-humide/
LOCATION:Réserve Naturelle Régionale de Cambounet-sur-le-Sor
ATTACH;FMTTYPE=image/png:https://www.rnrcambounet.fr/wp-content/uploads/2025/12/JMZH.png
ORGANIZER;CN="LPO Occitanie DT Tarn":MAILTO:animation.tarn@lpo.fr
END:VEVENT
END:VCALENDAR