BEGIN:VCALENDAR
VERSION:2.0
PRODID:-//Réserve naturelle régionale de Cambounet-sur-le-sor - ECPv6.8.3//NONSGML v1.0//EN
CALSCALE:GREGORIAN
METHOD:PUBLISH
X-ORIGINAL-URL:https://www.rnrcambounet.fr
X-WR-CALDESC:Évènements pour Réserve naturelle régionale de Cambounet-sur-le-sor
REFRESH-INTERVAL;VALUE=DURATION:PT1H
X-Robots-Tag:noindex
X-PUBLISHED-TTL:PT1H
BEGIN:VTIMEZONE
TZID:Europe/Paris
BEGIN:DAYLIGHT
TZOFFSETFROM:+0100
TZOFFSETTO:+0200
TZNAME:CEST
DTSTART:20260329T010000
END:DAYLIGHT
BEGIN:STANDARD
TZOFFSETFROM:+0200
TZOFFSETTO:+0100
TZNAME:CET
DTSTART:20261025T010000
END:STANDARD
END:VTIMEZONE
BEGIN:VEVENT
DTSTART;TZID=Europe/Paris:20260314T174500
DTEND;TZID=Europe/Paris:20260314T194500
DTSTAMP:20260421T123124
CREATED:20241211T152355Z
LAST-MODIFIED:20251210T125211Z
UID:1150-1773510300-1773517500@www.rnrcambounet.fr
SUMMARY:Coucou le hibou\, …ou la chouette ?
DESCRIPTION:Venez découvrir et jouer avec les espèces nocturnes qui peuplent notre département.
URL:https://www.rnrcambounet.fr/agenda/coucou-le-hibou-euh-ou-la-chouette/
LOCATION:Réserve Naturelle Régionale de Cambounet-sur-le-Sor
ATTACH;FMTTYPE=image/png:https://www.rnrcambounet.fr/wp-content/uploads/2024/12/4.png
ORGANIZER;CN="LPO Occitanie DT Tarn":MAILTO:animation.tarn@lpo.fr
END:VEVENT
END:VCALENDAR