BEGIN:VCALENDAR
VERSION:2.0
PRODID:-//Réserve naturelle régionale de Cambounet-sur-le-sor - ECPv6.8.3//NONSGML v1.0//EN
CALSCALE:GREGORIAN
METHOD:PUBLISH
X-WR-CALNAME:Réserve naturelle régionale de Cambounet-sur-le-sor
X-ORIGINAL-URL:https://www.rnrcambounet.fr
X-WR-CALDESC:Évènements pour Réserve naturelle régionale de Cambounet-sur-le-sor
REFRESH-INTERVAL;VALUE=DURATION:PT1H
X-Robots-Tag:noindex
X-PUBLISHED-TTL:PT1H
BEGIN:VTIMEZONE
TZID:Europe/Paris
BEGIN:DAYLIGHT
TZOFFSETFROM:+0100
TZOFFSETTO:+0200
TZNAME:CEST
DTSTART:20260329T010000
END:DAYLIGHT
BEGIN:STANDARD
TZOFFSETFROM:+0200
TZOFFSETTO:+0100
TZNAME:CET
DTSTART:20261025T010000
END:STANDARD
END:VTIMEZONE
BEGIN:VEVENT
DTSTART;VALUE=DATE:20260523
DTEND;VALUE=DATE:20260524
DTSTAMP:20260421T161916
CREATED:20241211T160321Z
LAST-MODIFIED:20251211T132550Z
UID:1173-1779494400-1779580799@www.rnrcambounet.fr
SUMMARY:Fête de la nature
DESCRIPTION:Venez célébrer avec nous ce rendez-vous annuel ! Balade thématique le matin et jeux et ateliers l’après-midi autour de l’observatoire Esquirol.
URL:https://www.rnrcambounet.fr/agenda/fete-de-la-nature/
LOCATION:Réserve Naturelle Régionale de Cambounet-sur-le-Sor
ATTACH;FMTTYPE=image/png:https://www.rnrcambounet.fr/wp-content/uploads/2024/12/Vignette-Site-Silpo.png
ORGANIZER;CN="LPO Occitanie DT Tarn":MAILTO:animation.tarn@lpo.fr
END:VEVENT
END:VCALENDAR