BEGIN:VCALENDAR
VERSION:2.0
PRODID:-//Réserve naturelle régionale de Cambounet-sur-le-sor - ECPv6.8.3//NONSGML v1.0//EN
CALSCALE:GREGORIAN
METHOD:PUBLISH
X-ORIGINAL-URL:https://www.rnrcambounet.fr
X-WR-CALDESC:Évènements pour Réserve naturelle régionale de Cambounet-sur-le-sor
REFRESH-INTERVAL;VALUE=DURATION:PT1H
X-Robots-Tag:noindex
X-PUBLISHED-TTL:PT1H
BEGIN:VTIMEZONE
TZID:Europe/Paris
BEGIN:DAYLIGHT
TZOFFSETFROM:+0100
TZOFFSETTO:+0200
TZNAME:CEST
DTSTART:20250330T010000
END:DAYLIGHT
BEGIN:STANDARD
TZOFFSETFROM:+0200
TZOFFSETTO:+0100
TZNAME:CET
DTSTART:20251026T010000
END:STANDARD
END:VTIMEZONE
BEGIN:VEVENT
DTSTART;TZID=Europe/Paris:20250906T093000
DTEND;TZID=Europe/Paris:20250906T120000
DTSTAMP:20260421T211129
CREATED:20250527T074854Z
LAST-MODIFIED:20250527T074854Z
UID:1266-1757151000-1757160000@www.rnrcambounet.fr
SUMMARY:Voyageurs du ciel\, les secrets de la migration
DESCRIPTION:« Les hirondelles font le printemps » dit-on\, car elles reviennent à cette saison de migration. Mais savez-vous pourquoi elles partent et jusqu’où elles vont ?
URL:https://www.rnrcambounet.fr/agenda/voyageurs-du-ciel-les-secrets-de-la-migration/
LOCATION:Réserve Naturelle Régionale de Cambounet-sur-le-Sor
ORGANIZER;CN="LPO Occitanie DT Tarn":MAILTO:animation.tarn@lpo.fr
END:VEVENT
END:VCALENDAR