BEGIN:VCALENDAR
VERSION:2.0
PRODID:-//Réserve naturelle régionale de Cambounet-sur-le-sor - ECPv6.8.3//NONSGML v1.0//EN
CALSCALE:GREGORIAN
METHOD:PUBLISH
X-ORIGINAL-URL:https://www.rnrcambounet.fr
X-WR-CALDESC:Évènements pour Réserve naturelle régionale de Cambounet-sur-le-sor
REFRESH-INTERVAL;VALUE=DURATION:PT1H
X-Robots-Tag:noindex
X-PUBLISHED-TTL:PT1H
BEGIN:VTIMEZONE
TZID:Europe/Paris
BEGIN:DAYLIGHT
TZOFFSETFROM:+0100
TZOFFSETTO:+0200
TZNAME:CEST
DTSTART:20250330T010000
END:DAYLIGHT
BEGIN:STANDARD
TZOFFSETFROM:+0200
TZOFFSETTO:+0100
TZNAME:CET
DTSTART:20251026T010000
END:STANDARD
END:VTIMEZONE
BEGIN:VEVENT
DTSTART;TZID=Europe/Paris:20251206T100000
DTEND;TZID=Europe/Paris:20251206T123000
DTSTAMP:20260421T160620
CREATED:20250527T142453Z
LAST-MODIFIED:20250527T142536Z
UID:1274-1765015200-1765024200@www.rnrcambounet.fr
SUMMARY:Un froid de canard
DESCRIPTION:Chaque saison apporte son lot de surprises et l’hiver ne fait pas exception. Partez en quête de la faune et la flore qui peuplent la réserve sous les gelées.
URL:https://www.rnrcambounet.fr/agenda/un-froid-de-canard/
LOCATION:Réserve Naturelle Régionale de Cambounet-sur-le-Sor
ORGANIZER;CN="LPO Occitanie DT Tarn":MAILTO:animation.tarn@lpo.fr
END:VEVENT
END:VCALENDAR